BEGIN:VCALENDAR
VERSION:2.0
PRODID:-//Textilmuseum Helmbrechts - ECPv6.15.20//NONSGML v1.0//EN
CALSCALE:GREGORIAN
METHOD:PUBLISH
X-WR-CALNAME:Textilmuseum Helmbrechts
X-ORIGINAL-URL:https://www.textilmuseum.de
X-WR-CALDESC:Veranstaltungen für Textilmuseum Helmbrechts
REFRESH-INTERVAL;VALUE=DURATION:PT1H
X-Robots-Tag:noindex
X-PUBLISHED-TTL:PT1H
BEGIN:VTIMEZONE
TZID:Europe/Berlin
BEGIN:DAYLIGHT
TZOFFSETFROM:+0100
TZOFFSETTO:+0200
TZNAME:CEST
DTSTART:20070325T010000
END:DAYLIGHT
BEGIN:STANDARD
TZOFFSETFROM:+0200
TZOFFSETTO:+0100
TZNAME:CET
DTSTART:20071028T010000
END:STANDARD
BEGIN:DAYLIGHT
TZOFFSETFROM:+0100
TZOFFSETTO:+0200
TZNAME:CEST
DTSTART:20080330T010000
END:DAYLIGHT
BEGIN:STANDARD
TZOFFSETFROM:+0200
TZOFFSETTO:+0100
TZNAME:CET
DTSTART:20081026T010000
END:STANDARD
BEGIN:DAYLIGHT
TZOFFSETFROM:+0100
TZOFFSETTO:+0200
TZNAME:CEST
DTSTART:20090329T010000
END:DAYLIGHT
BEGIN:STANDARD
TZOFFSETFROM:+0200
TZOFFSETTO:+0100
TZNAME:CET
DTSTART:20091025T010000
END:STANDARD
END:VTIMEZONE
BEGIN:VEVENT
DTSTART;TZID=Europe/Berlin:20081206T200000
DTEND;TZID=Europe/Berlin:20081206T200000
DTSTAMP:20260421T063821
CREATED:20180406T175630Z
LAST-MODIFIED:20180406T175630Z
UID:10000866-1228593600-1228593600@www.textilmuseum.de
SUMMARY:Claudia Koreck
DESCRIPTION:Und es ist klar: Die Singer-/Songwriterin aus Traunstein\, ist nicht erst seit ihrem Überraschungshit „Fliang“ mehr als ein Sternderl am Musikhimmel. Claudia Koreck taucht bei Auftritten in ihre Welt ein\, vergisst alles um sich herum und lebt die Gefühle in den Songs auf der Bühne aus. „Kraftvolle\, authentisch\, zauberhaft“ urteilt die Presse. Sie singt über das Verliebtsein\, das Verlassenwerden\, über Gefühle\, die alle bewegen. „Kennst du de Dog\, wo ois so fuachtbar sinnlos erscheint?“ fragt sie in einem ihrer Songs. Klar\, kennen wir. Und dann laufen wir mit ihr „über luftige Wiesn barfuaß im Gras“. \nUnterstützt wird die Musikerin bei ihren Auftritten von ihrer Band: Andreas „Andi“ Dombert an der Gitarre sowie am Keyboard\, Andreas „Otto´´ Schellinger am Kontrabass und Manfred „Manni“ Müller am Schlagzeug. „A suppa Truppn“\, freut sich  die Frontfrau. \nDie Veranstaltung wird nicht bestuhlt und möglicherweise in den Bürgersaal verlegt. \nWeitere Info: www.claudia-koreck.de
URL:https://www.textilmuseum.de/veranstaltung/claudia-koreck/
LOCATION:Textilmuseum\, Münchberger Straße 17\, Helmbrechts\, 95233\, Deutschland
CATEGORIES:Kulturwelten 2008
ATTACH;FMTTYPE=image/jpeg:https://www.textilmuseum.de/wp-content/uploads/2018/04/event_165.jpg
GEO:50.2387917;11.7189171
X-APPLE-STRUCTURED-LOCATION;VALUE=URI;X-ADDRESS=Textilmuseum Münchberger Straße 17 Helmbrechts 95233 Deutschland;X-APPLE-RADIUS=500;X-TITLE=Münchberger Straße 17:geo:11.7189171,50.2387917
END:VEVENT
BEGIN:VEVENT
DTSTART;TZID=Europe/Berlin:20081117T200000
DTEND;TZID=Europe/Berlin:20081117T200000
DTSTAMP:20260421T063821
CREATED:20180406T175626Z
LAST-MODIFIED:20180406T175626Z
UID:10000862-1226952000-1226952000@www.textilmuseum.de
SUMMARY:Hans Theessink - AUSVERKAUFT! Im Museum wird eine Warteliste für zurückgegebene Karten geführt.
DESCRIPTION:Der seit Jahren in Wien lebende Niederländer gilt als ein Meister der feinfühligen Emotion\, die er mit Nachdenklichkeit und Subtilität verbindet. Theessink verzichtet auf plakatives Pathos\, seine Songs sind stimmig und unterhaltend im besten Sinn des Wortes. Vor allem das Finger- Picking auf der zwölfsaitigen Gitarre\, sein atemberaubendes Slide-Spiel und der Einbezug des Publikums machen seine Konzerte zu einer unterhaltsamen und erfrischenden Erlebnis. Viele seiner Songs haben eine gewisse Wehmut und Melancholie\, die aber nie in den Kitsch abrutschen. Dabei war Theessink nie ein Purist in Sachen Blues\, stets färbten auch Folk\, Gospel und eine Prise Country seinen Sound. Über 20 Alben hat der Klangfarben-Weltenbummler mit dem unverwechselbaren Gitarrenspiel in seiner langen Karriere eingespielt.
URL:https://www.textilmuseum.de/veranstaltung/hans-theessink-ausverkauft-im-museum-wird-eine-warteliste-fuer-zurueckgegebene-karten-gefuehrt/
LOCATION:Textilmuseum\, Münchberger Straße 17\, Helmbrechts\, 95233\, Deutschland
CATEGORIES:Kulturwelten 2008
ATTACH;FMTTYPE=image/jpeg:https://www.textilmuseum.de/wp-content/uploads/2018/04/event_162.jpg
GEO:50.2387917;11.7189171
X-APPLE-STRUCTURED-LOCATION;VALUE=URI;X-ADDRESS=Textilmuseum Münchberger Straße 17 Helmbrechts 95233 Deutschland;X-APPLE-RADIUS=500;X-TITLE=Münchberger Straße 17:geo:11.7189171,50.2387917
END:VEVENT
BEGIN:VEVENT
DTSTART;TZID=Europe/Berlin:20081109T100000
DTEND;TZID=Europe/Berlin:20081109T100000
DTSTAMP:20260421T063821
CREATED:20180406T175619Z
LAST-MODIFIED:20180406T175619Z
UID:10000856-1226224800-1226224800@www.textilmuseum.de
SUMMARY:Adjiri Odametey - AUSVERKAUFT! Im Museum wird eine Warteliste für zurückgegebene Karten geführt.
DESCRIPTION:In seine Konzerte fließen Elemente europäischer und amerikanischer populärer Musik ebenso ein wie Stimmungen\, Harmonien\, Rhythmen aus französischen Chansons\, Blues\, Soul\, Balladen etc. So entsteht eine Musik\, in der sich große Lebensfreude mit Schwermut vereint. Charakteristisch für Adjiri Odametey ist die Freude\, mit der er für und mit der Musik lebt. Diese Liebe spricht aus seiner Musik: In seinen Konzerten kann man die Begeisterung live erleben.  \nAdjiri verwandelt seine traditionellen Wurzeln souverän in die eigene Klangwelt. Es kommen sowohl Liebhaber ruhiger Songs als auch Percussion-Fans voll auf ihre Kosten: Musik aus Traum und Energie.“Der Welt entrückt – Adjiri Odametey verzaubert mit ausdrucksstarker Musik … Die wunderbar arrangierten und gespielten Lieder haben Ohrwurmcharakter.“ (Süddeutsche Zeitung) \nBesetzung: Adjiri Odametey: Vocal / Balafon / Cora / Mbira / Kalimba / Gitarre / PercussionRobert Odametey: Vocal / Flöte / Bass / Bass-Kalimba / Shaker / PercussionRichard Donkon: Vocal / Cajon / Bongos / Flöte / Bell / Talking Drum
URL:https://www.textilmuseum.de/veranstaltung/adjiri-odametey-ausverkauft-im-museum-wird-eine-warteliste-fuer-zurueckgegebene-karten-gefuehrt/
LOCATION:Textilmuseum\, Münchberger Straße 17\, Helmbrechts\, 95233\, Deutschland
CATEGORIES:Kulturwelten 2008
ATTACH;FMTTYPE=image/jpeg:https://www.textilmuseum.de/wp-content/uploads/2018/04/event_159.jpg
GEO:50.2387917;11.7189171
X-APPLE-STRUCTURED-LOCATION;VALUE=URI;X-ADDRESS=Textilmuseum Münchberger Straße 17 Helmbrechts 95233 Deutschland;X-APPLE-RADIUS=500;X-TITLE=Münchberger Straße 17:geo:11.7189171,50.2387917
END:VEVENT
BEGIN:VEVENT
DTSTART;TZID=Europe/Berlin:20081108T200000
DTEND;TZID=Europe/Berlin:20081108T200000
DTSTAMP:20260421T063821
CREATED:20180406T175618Z
LAST-MODIFIED:20180406T175618Z
UID:10000854-1226174400-1226174400@www.textilmuseum.de
SUMMARY:Andrea Wolper Trio
DESCRIPTION:ANDREA WOLPER\, eine herausragende Jazzsängerin\, verbindet das Beste aus dem Jazz-Standard-Programm mit eigenem Material und Musik aus unerwarteten Quellen – von Pop bis Poetry\, mit verschiedensten Einflüssen von Blues\, Harmonien aus dem Mittelmeerraumbis hin zu Soul zu einer einzigartigen Live-Erfahrung. Sie nimmt das Publikum mit auf eine musikalische Reise hin zu einem hochenergetischem\, manchmal humorvollem\, aber immer überraschendem Abenteuer improvisierter Musik. \nZum Trio gehört der Bassist KEN FILIANO\, er trat gemeinsam mit vielen führenden Künstlern in Jazz\, Klassik und Weltmusik auf\, wie z.B. Giora Feidman\, in dessen Gruppe er seit über 12 Jahren spielt\, Barre Phillips\, oder Don Preston. \nDer Gitarrist RON AFFIF erwarb sich Anerkennung durch seine ganz persönliche Herangehensweise an den Jazz\, durch seine Nähe zur Spielweise der Jazzelite. George Benson über Ron Affif: „Mein favorisierter Typ von Gitarrenspielern sind diejenigen\, die mit Feuer spielen\, und das Erste\, was bei Rons Spiel auffällt\, ist\, dass er viel Feuer hat.“
URL:https://www.textilmuseum.de/veranstaltung/andrea-wolper-trio/
LOCATION:Textilmuseum\, Münchberger Straße 17\, Helmbrechts\, 95233\, Deutschland
CATEGORIES:Kulturwelten 2008
ATTACH;FMTTYPE=image/jpeg:https://www.textilmuseum.de/wp-content/uploads/2018/04/event_166.jpg
GEO:50.2387917;11.7189171
X-APPLE-STRUCTURED-LOCATION;VALUE=URI;X-ADDRESS=Textilmuseum Münchberger Straße 17 Helmbrechts 95233 Deutschland;X-APPLE-RADIUS=500;X-TITLE=Münchberger Straße 17:geo:11.7189171,50.2387917
END:VEVENT
BEGIN:VEVENT
DTSTART;TZID=Europe/Berlin:20081107T200000
DTEND;TZID=Europe/Berlin:20081107T200000
DTSTAMP:20260421T063821
CREATED:20180406T175631Z
LAST-MODIFIED:20180406T175631Z
UID:10000868-1226088000-1226088000@www.textilmuseum.de
SUMMARY:Landmusigg
DESCRIPTION:Die Lieder sind größtenteils aus eigener Fertigung\, doch es gibt auch einige Adaptionen von Klassikern\, die dann doch auch wieder die unverkennbare Handschrift der „Landmusigg“ tragen. Vor allem die kraftvollen Klarinetten-\, Geigenarrangements\, die in Fränkisch und Deutsch gesungenen kleinen Alltagsgeschichten und nicht zuletzt eine Musik voll Melancholie und Lebensfreude tragen hierzu bei.Die Musiker sind:Hannah Förster (Geige\, Flöte\, Gesang)Judith Förster (Klarinette\, Flöte\, Xylophon\, Gesang)Georg Hofmann (Bass)Sandra Hollstein (Akkordeon\, Gesang)Siegfried Michl (Gitarre\, Gesang)Andreas Richter (Klarinette\, Dudelsäcke\, Flöte\, Gesang)Harry Tröger (Schlagzeug\, Gezumpel\, Gesang)
URL:https://www.textilmuseum.de/veranstaltung/landmusigg/
LOCATION:Textilmuseum\, Münchberger Straße 17\, Helmbrechts\, 95233\, Deutschland
CATEGORIES:Kulturwelten 2008
ATTACH;FMTTYPE=image/jpeg:https://www.textilmuseum.de/wp-content/uploads/2018/04/event_178.jpg
GEO:50.2387917;11.7189171
X-APPLE-STRUCTURED-LOCATION;VALUE=URI;X-ADDRESS=Textilmuseum Münchberger Straße 17 Helmbrechts 95233 Deutschland;X-APPLE-RADIUS=500;X-TITLE=Münchberger Straße 17:geo:11.7189171,50.2387917
END:VEVENT
BEGIN:VEVENT
DTSTART;TZID=Europe/Berlin:20081106T200000
DTEND;TZID=Europe/Berlin:20081106T200000
DTSTAMP:20260421T063821
CREATED:20180406T175616Z
LAST-MODIFIED:20180406T175616Z
UID:10000852-1226001600-1226001600@www.textilmuseum.de
SUMMARY:Elina Duni Quartet
DESCRIPTION:Die aus Albanien stammende Jazzsängerin schürft tief im Fundus der albanischen Folklore und macht uns vertraut mit herzergreifenden Liedern\, deren Sehnsuchtstrunkenheit uns nicht entgeht. Neben dem Balkan bildet Paris das zweite geografische Gravitationszentrum ihres Repertoires. Stücke der Chanson-Ikonen Serge Gainsbourg und Léo Ferré singt Duni so\, als wären diese extra für sie geschrieben worden. Gänsehaut ist garantiert.  \nDie Sängerin ist trotz ihrer Jugend eine souveräne Musikerin mit einer emotionalen Tiefe\, die niemanden unberührt lässt. Colin Vallon\, der Komet am Schweizer Pianohimmel\, lässt in dieser kammermusikalischen Formation auch seine stillere\, poetische Seite erklingen. Über Bänz Oester konnte man in der Schweizer Zeitung „Der Bund“ lesen: „Oester darf mit seinem ausdrucksstarken und ungekünstelten Spiel inzwischen zu den führenden Bassisten Europas gezählt werden“. Und über Norbert Pfammatter: „Schlicht Weltklasse!“. (Ensuite\, KulturMagazin)
URL:https://www.textilmuseum.de/veranstaltung/elina-duni-quartet/
LOCATION:Textilmuseum\, Münchberger Straße 17\, Helmbrechts\, 95233\, Deutschland
CATEGORIES:Kulturwelten 2008
ATTACH;FMTTYPE=image/jpeg:https://www.textilmuseum.de/wp-content/uploads/2018/04/event_158.jpg
GEO:50.2387917;11.7189171
X-APPLE-STRUCTURED-LOCATION;VALUE=URI;X-ADDRESS=Textilmuseum Münchberger Straße 17 Helmbrechts 95233 Deutschland;X-APPLE-RADIUS=500;X-TITLE=Münchberger Straße 17:geo:11.7189171,50.2387917
END:VEVENT
BEGIN:VEVENT
DTSTART;TZID=Europe/Berlin:20081031T200000
DTEND;TZID=Europe/Berlin:20081031T200000
DTSTAMP:20260421T063821
CREATED:20180406T175611Z
LAST-MODIFIED:20180406T175611Z
UID:10000850-1225483200-1225483200@www.textilmuseum.de
SUMMARY:Landler & Blues - Zither Manä & Abi Wallenstein - AUSVERKAUFT! Im Museum wird eine Warteliste für zurückgegebene Karten geführt.
DESCRIPTION:Mit seiner Erfindung Zither-Rock hat Manfred Zick einen eigenen Musikstil geprägt und es geschafft\, die Musikrichtungen Rock/Blues und Volksmusik zu verbinden. Dass dazu ausgerechnet eine Zither „missbraucht“ wird\, gibt dieser Mischung eine ganz besondere Note. Das Programm widmet sich vermehrt dem Landler und dem Blues\, also der Volksmusik der amerikanischen und deutschen Südstaaten\, d.h. der Musik der Schwarzen – der echten Schwarzen. Es deckt Ähnlichkeiten der Stile auf und beweist die Identität von Landler und Blues. Zither Manä\, im südbayerischen Oberland längst Kult-Status erreicht\, hätte im Musikantenstadl keine Chance. \nAbi Wallensteins Blues-Alben „Step in time“ und „Blues Culture“ wurden mit dem Preis der deutschen Schallplattenkritik ausgezeichnet. „Blues war immer schon geprägt von Originalen\, von Musikern\, die Authenzität ausstrahlen\, jeder auf seine eigene\, höchstpersönliche Art und Weise. In diesem Sinne ist Abi Wallenstein so authentisch\, wie man nur authentisch sein kann.“ (Concerto Magazin).
URL:https://www.textilmuseum.de/veranstaltung/landler-blues-zither-manae-abi-wallenstein-ausverkauft-im-museum-wird-eine-warteliste-fuer-zurueckgegebene-karten-gefuehrt/
LOCATION:Textilmuseum\, Münchberger Straße 17\, Helmbrechts\, 95233\, Deutschland
CATEGORIES:Kulturwelten 2008
ATTACH;FMTTYPE=image/jpeg:https://www.textilmuseum.de/wp-content/uploads/2018/04/event_156.jpg
GEO:50.2387917;11.7189171
X-APPLE-STRUCTURED-LOCATION;VALUE=URI;X-ADDRESS=Textilmuseum Münchberger Straße 17 Helmbrechts 95233 Deutschland;X-APPLE-RADIUS=500;X-TITLE=Münchberger Straße 17:geo:11.7189171,50.2387917
END:VEVENT
BEGIN:VEVENT
DTSTART;TZID=Europe/Berlin:20081012T100000
DTEND;TZID=Europe/Berlin:20081012T100000
DTSTAMP:20260421T063821
CREATED:20180406T175556Z
LAST-MODIFIED:20180406T175556Z
UID:10000843-1223805600-1223805600@www.textilmuseum.de
SUMMARY:The Klezmer Connection - Wiederholung
DESCRIPTION:Einmalig für Interessierte dieser Veranstaltung ist die Möglichkeit\, sich über deren Inhalte zu informieren. Das Textilmuseum erstellte vor zwei Jahren ein zehnminütiges Demo-Video für die Salzburger Künstler. Dieses Video stellte Dr. Georg Winkler\, der Klarinettist der Gruppe\, kürzlich ins Internet. Unter youtube oder unter www.klezmerconnection.at kann dieses Video abgerufen werden\, besser kann man sich nicht informieren.  \nDie Klezmer Connection hat bereits vor zwei Jahren mit ihrer jüdischen Hochzeitsmusik vor ausverkauftem Haus begeistert. „Meschugge“ (ein hebräisch/jiddisches Lehnwort meint eine spezielle Form der Verrücktheit\, abseitig vom Normalen und Üblichen) heißt das neue Programm der sympathischen Musiker\, das nun an 2 Tagen hintereinander gezeigt wird.  \nEinmalig für Interessierte dieser Veranstaltung ist die Möglichkeit\, sich über deren Inhalte zu informieren. Das Textilmuseum erstellte vor zwei Jahren ein zehnminütiges Demo-Video für die Salzburger Künstler. Dieses Video stellte Dr. Georg Winkler\, der Klarinettist der Gruppe\, kürzlich ins Internet. Unter youtube oder unter www.klezmerconnection.at kann dieses Video abgerufen werden\, besser kann man sich nicht informieren.  \nDie Salzburger Dr. Georg Winkler (Klarinette)\, Marion Ellmer (Gesang\, Gitarre)\, Hubert Kellerer (Akkordeon)\, Bernie Rothauer (Schlagzeug\, Gitarre)\, Peter Aradi (Kontrabass) boten bereits vor zwei Jahren ein hervorragendes Konzert im Rahmen der Kulturwelten. Mit dem neuen Programm „Meschugge“ (ein hebräisch/jiddisches Lehnwort meint eine spezielle Form der Verrücktheit\, abseitig vom Normalen und Üblichen) sind die sympathischen Musiker wieder zu Gast. Kaum ein anderes Ensemble steht mehr für emotionsgeladene und kraftvolle Hingabe an Klezmermusik und jiddische Lieder. Auf einer ständigen Gratwanderung zwischen Lebensfreude\, Traurigkeit und Sinnlichkeit entstehen virtuose Klanggebilde – wild\, zärtlich\, verrückt\, funky\, frech\, witzig\, sphärisch – mit einem Wort: meschugge.  \n„Die Klezmer Musik wurde auf eine neue\, berückende Weise interpretiert. Ob es nun freudige Hochzeitsmärsche oder tieftraurige Liebeslieder sind\, die Vermischung von Traditionellem mit Jazz und Latino hat einfach Qualität.“ (drehpunkt kultur)
URL:https://www.textilmuseum.de/veranstaltung/the-klezmer-connection-wiederholung/
LOCATION:Textilmuseum\, Münchberger Straße 17\, Helmbrechts\, 95233\, Deutschland
CATEGORIES:Kulturwelten 2008
ATTACH;FMTTYPE=image/jpeg:https://www.textilmuseum.de/wp-content/uploads/2018/04/event_177.jpg
GEO:50.2387917;11.7189171
X-APPLE-STRUCTURED-LOCATION;VALUE=URI;X-ADDRESS=Textilmuseum Münchberger Straße 17 Helmbrechts 95233 Deutschland;X-APPLE-RADIUS=500;X-TITLE=Münchberger Straße 17:geo:11.7189171,50.2387917
END:VEVENT
BEGIN:VEVENT
DTSTART;TZID=Europe/Berlin:20081011T200000
DTEND;TZID=Europe/Berlin:20081011T200000
DTSTAMP:20260421T063821
CREATED:20180406T175603Z
LAST-MODIFIED:20180406T175603Z
UID:10000846-1223755200-1223755200@www.textilmuseum.de
SUMMARY:The Klezmer Connection - AUSVERKAUFT! Wiederholung am So\, 12.20.2008\, 10.00 Uhr
DESCRIPTION:Klezmer Connection   \nAUSVERKAUFT! Im Museum wird eine Warteliste für zurückgegebene Karten geführt. \nMit dem neuen Programm „Meschugge“ (ein hebräisch/jiddisches Lehnwort meint eine spezielle Form der Verrücktheit\, abseitig vom Normalen und Üblichen) sind die sympathischen Musiker wieder zu Gast. Kaum ein anderes Ensemble steht mehr für emotionsgeladene und kraftvolle Hingabe an Klezmermusik und jiddische Lieder. Auf einer ständigen Gratwanderung zwischen Lebensfreude\, Traurigkeit und Sinnlichkeit entstehen virtuose Klanggebilde – wild\, zärtlich\, verrückt\, funky\, frech\, witzig\, sphärisch – mit einem Wort: meschugge.  \n„Die Klezmer Musik wurde auf eine neue\, berückende Weise interpretiert. Ob es nun freudige Hochzeitsmärsche oder tieftraurige Liebeslieder sind\, die Vermischung von Traditionellem mit Jazz und Latino hat einfach Qualität.“ (drehpunkt kultur)
URL:https://www.textilmuseum.de/veranstaltung/the-klezmer-connection-ausverkauft-wiederholung-am-so-12-20-2008-10-00-uhr/
LOCATION:Textilmuseum\, Münchberger Straße 17\, Helmbrechts\, 95233\, Deutschland
CATEGORIES:Kulturwelten 2008
ATTACH;FMTTYPE=image/jpeg:https://www.textilmuseum.de/wp-content/uploads/2018/04/event_152.jpg
GEO:50.2387917;11.7189171
X-APPLE-STRUCTURED-LOCATION;VALUE=URI;X-ADDRESS=Textilmuseum Münchberger Straße 17 Helmbrechts 95233 Deutschland;X-APPLE-RADIUS=500;X-TITLE=Münchberger Straße 17:geo:11.7189171,50.2387917
END:VEVENT
BEGIN:VEVENT
DTSTART;TZID=Europe/Berlin:20081004T200000
DTEND;TZID=Europe/Berlin:20081004T200000
DTSTAMP:20260421T063821
CREATED:20180406T175600Z
LAST-MODIFIED:20180406T175600Z
UID:10000845-1223150400-1223150400@www.textilmuseum.de
SUMMARY:Montréal Guitare Trio -  AUSVERKAUFT! Im Museum wird eine Warteliste für zurückgegebene Karten geführt.
DESCRIPTION:MG3 besteht aus drei Gitarristen mit entfesselter Energie und Charisma. Das Trio führt sein Publikum in eine besondere Welt\, in der Jazz\, klassische und Weltmusik mit Gusto verknüpft werden.  \nGewürzt mit einem trockenen Humor\, entlädt ihre Musik eine unwiderstehliche Energie. Die eklektische Musik des Trios entführt den Zuhörer auf eine Reise durch die vielfältigen Kulturen der Welt – von mystischen exotischen Melodien Indiens zu den heißen Rhythmen Südamerikas\, Spaniens\, dem Balkan\, dem Orient\, dem traditionellen Quebec und… Hollywood.  \nMG3 gab hunderte von Konzerten in Nordamerika und Europa\, von denen viele aufgenommen und von nationalen Sendern\, wie CBC\, Radio-France\, BRAVO\, dem nationalen rumänischen Fernsehen und Radio-Canada gesendet wurden.  \nMG3\, ein Muss für Liebhaber akustischer Gitarrenmusik und eine Empfehlung für Freunde des Außergewöhnlichen.
URL:https://www.textilmuseum.de/veranstaltung/montreal-guitare-trio-ausverkauft-im-museum-wird-eine-warteliste-fuer-zurueckgegebene-karten-gefuehrt/
LOCATION:Textilmuseum\, Münchberger Straße 17\, Helmbrechts\, 95233\, Deutschland
CATEGORIES:Kulturwelten 2008
ATTACH;FMTTYPE=image/jpeg:https://www.textilmuseum.de/wp-content/uploads/2018/04/event_151.jpg
GEO:50.2387917;11.7189171
X-APPLE-STRUCTURED-LOCATION;VALUE=URI;X-ADDRESS=Textilmuseum Münchberger Straße 17 Helmbrechts 95233 Deutschland;X-APPLE-RADIUS=500;X-TITLE=Münchberger Straße 17:geo:11.7189171,50.2387917
END:VEVENT
BEGIN:VEVENT
DTSTART;TZID=Europe/Berlin:20081003T200000
DTEND;TZID=Europe/Berlin:20081003T200000
DTSTAMP:20260421T063821
CREATED:20180406T175558Z
LAST-MODIFIED:20180406T175558Z
UID:10000844-1223064000-1223064000@www.textilmuseum.de
SUMMARY:Lauschgold - AUSVERKAUFT! Im Museum wird eine Warteliste für zurückgegebene Karten geführt.
DESCRIPTION:Drei filigran gewobene Fäden in einem bunten Klangteppich entführen in ferne Welten\, lassen Herbststürme in Schottland aufbrausen\, tauchen neblige Moorlandschaften in zartes Sonnenlicht oder gaukeln in flirrender Wüstenhitze eine Fata Morgana vor.  \nDas Trio: Martina Eisenreich ist die derzeit gefragteste Kreativ-Geigerin Bayerns. „Martina Eisenreichs Geige scheint unter Starkstrom zu stehen\, ist bereit für jedes virtuose Risiko und bleibt harmonischen und rhythmischen Sprengkräften nichts schuldig.“ (Münchner Merkur)Evelyn Huber gilt sowohl in der Jazz- als auch in der World Music-Szene als absolute Ausnahmeerscheinung. Die Harfenistin hat ihre klassische Ausbildung mit dem Meisterklassendiplom  abgeschlossen. Bei den Kulturwelten 2007 sorgte sie mit „Tango Lyrico“ zweimal für ein ausverkauftes Haus und ein begeistertes Publikum. Wolfgang Lohmeier ist einer der innovativsten  Percussionisten in Deutschland.Prämiert wurde sein musikalisches und einfühlsames Trommeln mit dem Preis der Deutschen Phonoakademie\, dem Jazz Award (für die Zusammenarbeit mit Quadro Nuevo) und dem Preis für junge Songpoeten der Hans – Seidel – Stiftung.
URL:https://www.textilmuseum.de/veranstaltung/lauschgold-ausverkauft-im-museum-wird-eine-warteliste-fuer-zurueckgegebene-karten-gefuehrt/
LOCATION:Textilmuseum\, Münchberger Straße 17\, Helmbrechts\, 95233\, Deutschland
CATEGORIES:Kulturwelten 2008
ATTACH;FMTTYPE=image/jpeg:https://www.textilmuseum.de/wp-content/uploads/2018/04/event_150.jpg
GEO:50.2387917;11.7189171
X-APPLE-STRUCTURED-LOCATION;VALUE=URI;X-ADDRESS=Textilmuseum Münchberger Straße 17 Helmbrechts 95233 Deutschland;X-APPLE-RADIUS=500;X-TITLE=Münchberger Straße 17:geo:11.7189171,50.2387917
END:VEVENT
END:VCALENDAR